BEGIN:VCALENDAR
VERSION:2.0
PRODID:-//Greeblehaus - ECPv6.15.20//NONSGML v1.0//EN
CALSCALE:GREGORIAN
METHOD:PUBLISH
X-ORIGINAL-URL:https://greeblehaus.com
X-WR-CALDESC:Events for Greeblehaus
REFRESH-INTERVAL;VALUE=DURATION:PT1H
X-Robots-Tag:noindex
X-PUBLISHED-TTL:PT1H
BEGIN:VTIMEZONE
TZID:America/Denver
BEGIN:DAYLIGHT
TZOFFSETFROM:-0700
TZOFFSETTO:-0600
TZNAME:MDT
DTSTART:20240310T090000
END:DAYLIGHT
BEGIN:STANDARD
TZOFFSETFROM:-0600
TZOFFSETTO:-0700
TZNAME:MST
DTSTART:20241103T080000
END:STANDARD
BEGIN:DAYLIGHT
TZOFFSETFROM:-0700
TZOFFSETTO:-0600
TZNAME:MDT
DTSTART:20250309T090000
END:DAYLIGHT
BEGIN:STANDARD
TZOFFSETFROM:-0600
TZOFFSETTO:-0700
TZNAME:MST
DTSTART:20251102T080000
END:STANDARD
BEGIN:DAYLIGHT
TZOFFSETFROM:-0700
TZOFFSETTO:-0600
TZNAME:MDT
DTSTART:20260308T090000
END:DAYLIGHT
BEGIN:STANDARD
TZOFFSETFROM:-0600
TZOFFSETTO:-0700
TZNAME:MST
DTSTART:20261101T080000
END:STANDARD
BEGIN:DAYLIGHT
TZOFFSETFROM:-0700
TZOFFSETTO:-0600
TZNAME:MDT
DTSTART:20270314T090000
END:DAYLIGHT
BEGIN:STANDARD
TZOFFSETFROM:-0600
TZOFFSETTO:-0700
TZNAME:MST
DTSTART:20271107T080000
END:STANDARD
END:VTIMEZONE
BEGIN:VEVENT
DTSTART;VALUE=DATE:20260423
DTEND;VALUE=DATE:20260424
DTSTAMP:20260425T214317
CREATED:20260305T181758Z
LAST-MODIFIED:20260423T000926Z
UID:10000379-1776902400-1776988799@greeblehaus.com
SUMMARY:Maya Hawke
DESCRIPTION:
URL:https://greeblehaus.com/event/maya-hawke/
LOCATION:Bluebird
END:VEVENT
BEGIN:VEVENT
DTSTART;VALUE=DATE:20260421
DTEND;VALUE=DATE:20260422
DTSTAMP:20260425T214317
CREATED:20260113T234856Z
LAST-MODIFIED:20260421T034622Z
UID:10000335-1776729600-1776815999@greeblehaus.com
SUMMARY:Brigitte Calls Me Baby
DESCRIPTION:
URL:https://greeblehaus.com/event/brigitte-calls-me-baby/
LOCATION:Bluebird
END:VEVENT
BEGIN:VEVENT
DTSTART;VALUE=DATE:20260416
DTEND;VALUE=DATE:20260417
DTSTAMP:20260425T214317
CREATED:20260215T213353Z
LAST-MODIFIED:20260416T180245Z
UID:10000355-1776297600-1776383999@greeblehaus.com
SUMMARY:Rickshaw Billie's Burger Patrol w/ Pink Fuzz
DESCRIPTION:
URL:https://greeblehaus.com/event/rickshaw-billies-burger-patrol-w-pink-fuzz/
LOCATION:Bluebird
END:VEVENT
BEGIN:VEVENT
DTSTART;VALUE=DATE:20260415
DTEND;VALUE=DATE:20260416
DTSTAMP:20260425T214317
CREATED:20260123T173442Z
LAST-MODIFIED:20260415T170101Z
UID:10000339-1776211200-1776297599@greeblehaus.com
SUMMARY:Fishbone
DESCRIPTION:
URL:https://greeblehaus.com/event/fishbone/
LOCATION:Bluebird
END:VEVENT
BEGIN:VEVENT
DTSTART;VALUE=DATE:20260414
DTEND;VALUE=DATE:20260415
DTSTAMP:20260425T214317
CREATED:20260305T181725Z
LAST-MODIFIED:20260414T164540Z
UID:10000377-1776124800-1776211199@greeblehaus.com
SUMMARY:Die Krupps
DESCRIPTION:
URL:https://greeblehaus.com/event/die-krupps/
LOCATION:Bluebird
END:VEVENT
BEGIN:VEVENT
DTSTART;VALUE=DATE:20260413
DTEND;VALUE=DATE:20260414
DTSTAMP:20260425T214317
CREATED:20260109T230350Z
LAST-MODIFIED:20260413T163023Z
UID:10000271-1776038400-1776124799@greeblehaus.com
SUMMARY:Ratboys
DESCRIPTION:
URL:https://greeblehaus.com/event/ratboys/
LOCATION:Bluebird
END:VEVENT
BEGIN:VEVENT
DTSTART;VALUE=DATE:20260411
DTEND;VALUE=DATE:20260412
DTSTAMP:20260425T214317
CREATED:20260109T230349Z
LAST-MODIFIED:20260411T160050Z
UID:10000270-1775865600-1775951999@greeblehaus.com
SUMMARY:Caiola
DESCRIPTION:
URL:https://greeblehaus.com/event/caiola/
LOCATION:Bluebird
END:VEVENT
BEGIN:VEVENT
DTSTART;VALUE=DATE:20260408
DTEND;VALUE=DATE:20260409
DTSTAMP:20260425T214317
CREATED:20260305T181712Z
LAST-MODIFIED:20260408T000024Z
UID:10000376-1775606400-1775692799@greeblehaus.com
SUMMARY:Ritt Momney
DESCRIPTION:
URL:https://greeblehaus.com/event/ritt-momney/
LOCATION:Bluebird
END:VEVENT
BEGIN:VEVENT
DTSTART;VALUE=DATE:20260407
DTEND;VALUE=DATE:20260408
DTSTAMP:20260425T214317
CREATED:20260203T191846Z
LAST-MODIFIED:20260406T234724Z
UID:10000345-1775520000-1775606399@greeblehaus.com
SUMMARY:The Red Pears & Together Pangea
DESCRIPTION:
URL:https://greeblehaus.com/event/the-red-pears-together-pangea/
LOCATION:Bluebird
END:VEVENT
BEGIN:VEVENT
DTSTART;VALUE=DATE:20260404
DTEND;VALUE=DATE:20260405
DTSTAMP:20260425T214317
CREATED:20260109T230345Z
LAST-MODIFIED:20260404T231725Z
UID:10000269-1775260800-1775347199@greeblehaus.com
SUMMARY:Magoo
DESCRIPTION:
URL:https://greeblehaus.com/event/magoo/
LOCATION:Bluebird
END:VEVENT
BEGIN:VEVENT
DTSTART;VALUE=DATE:20260327
DTEND;VALUE=DATE:20260328
DTSTAMP:20260425T214317
CREATED:20260305T181614Z
LAST-MODIFIED:20260327T174527Z
UID:10000375-1774569600-1774655999@greeblehaus.com
SUMMARY:Red Leather
DESCRIPTION:
URL:https://greeblehaus.com/event/red-leather/
LOCATION:Bluebird
END:VEVENT
BEGIN:VEVENT
DTSTART;VALUE=DATE:20260326
DTEND;VALUE=DATE:20260327
DTSTAMP:20260425T214317
CREATED:20251222T191211Z
LAST-MODIFIED:20260320T163455Z
UID:10000131-1774483200-1774569599@greeblehaus.com
SUMMARY:Charlie Parr
DESCRIPTION:
URL:https://greeblehaus.com/event/charlie-parr/
LOCATION:Bluebird
END:VEVENT
BEGIN:VEVENT
DTSTART;VALUE=DATE:20260325
DTEND;VALUE=DATE:20260326
DTSTAMP:20260425T214317
CREATED:20260305T181557Z
LAST-MODIFIED:20260320T163432Z
UID:10000374-1774396800-1774483199@greeblehaus.com
SUMMARY:HR (of Bad Brains)
DESCRIPTION:
URL:https://greeblehaus.com/event/hr-of-bad-brains/
LOCATION:Bluebird
END:VEVENT
BEGIN:VEVENT
DTSTART;VALUE=DATE:20260323
DTEND;VALUE=DATE:20260324
DTSTAMP:20260425T214317
CREATED:20260109T230322Z
LAST-MODIFIED:20260320T163430Z
UID:10000266-1774224000-1774310399@greeblehaus.com
SUMMARY:Quarters
DESCRIPTION:
URL:https://greeblehaus.com/event/quarters/
LOCATION:Bluebird
END:VEVENT
BEGIN:VEVENT
DTSTART;VALUE=DATE:20260319
DTEND;VALUE=DATE:20260320
DTSTAMP:20260425T214317
CREATED:20251221T181538Z
LAST-MODIFIED:20260319T160040Z
UID:10000118-1773878400-1773964799@greeblehaus.com
SUMMARY:The Thing
DESCRIPTION:
URL:https://greeblehaus.com/event/the-thing/
LOCATION:Bluebird
END:VEVENT
BEGIN:VEVENT
DTSTART;VALUE=DATE:20260315
DTEND;VALUE=DATE:20260316
DTSTAMP:20260425T214317
CREATED:20251221T181536Z
LAST-MODIFIED:20260313T193229Z
UID:10000116-1773532800-1773619199@greeblehaus.com
SUMMARY:Bad Bad Hats
DESCRIPTION:
URL:https://greeblehaus.com/event/bad-bad-hats/
LOCATION:Bluebird
END:VEVENT
BEGIN:VEVENT
DTSTART;VALUE=DATE:20260314
DTEND;VALUE=DATE:20260315
DTSTAMP:20260425T214317
CREATED:20260109T230309Z
LAST-MODIFIED:20260313T193202Z
UID:10000265-1773446400-1773532799@greeblehaus.com
SUMMARY:The Barr Brothers
DESCRIPTION:
URL:https://greeblehaus.com/event/the-barr-brothers/
LOCATION:Bluebird
END:VEVENT
BEGIN:VEVENT
DTSTART;VALUE=DATE:20260221
DTEND;VALUE=DATE:20260222
DTSTAMP:20260425T214317
CREATED:20251213T194722Z
LAST-MODIFIED:20260221T224542Z
UID:10000074-1771632000-1771718399@greeblehaus.com
SUMMARY:Whitney Hanson
DESCRIPTION:
URL:https://greeblehaus.com/event/whitney-hanson/
LOCATION:Bluebird
END:VEVENT
BEGIN:VEVENT
DTSTART;VALUE=DATE:20260206
DTEND;VALUE=DATE:20260207
DTSTAMP:20260425T214317
CREATED:20251213T194648Z
LAST-MODIFIED:20260206T194903Z
UID:10000052-1770336000-1770422399@greeblehaus.com
SUMMARY:Horse Bitch w/ Cheap Perfume and Gestalt
DESCRIPTION:
URL:https://greeblehaus.com/event/horse-bitch-w-cheap-perfume-and-gestalt/
LOCATION:Bluebird
END:VEVENT
BEGIN:VEVENT
DTSTART;VALUE=DATE:20260126
DTEND;VALUE=DATE:20260127
DTSTAMP:20260425T214317
CREATED:20251213T194642Z
LAST-MODIFIED:20260126T180038Z
UID:10000045-1769385600-1769471999@greeblehaus.com
SUMMARY:Ruston Kelly
DESCRIPTION:
URL:https://greeblehaus.com/event/ruston-kelly/
LOCATION:Bluebird
END:VEVENT
BEGIN:VEVENT
DTSTART;VALUE=DATE:20260123
DTEND;VALUE=DATE:20260124
DTSTAMP:20260425T214317
CREATED:20251213T194640Z
LAST-MODIFIED:20260123T173045Z
UID:10000043-1769126400-1769212799@greeblehaus.com
SUMMARY:Marfa w/ Strange Americans\, Brent Cowles
DESCRIPTION:
URL:https://greeblehaus.com/event/marfa-w-strange-americans-brent-cowles/
LOCATION:Bluebird
END:VEVENT
BEGIN:VEVENT
DTSTART;VALUE=DATE:20260117
DTEND;VALUE=DATE:20260118
DTSTAMP:20260425T214317
CREATED:20251213T194634Z
LAST-MODIFIED:20260117T160119Z
UID:10000037-1768608000-1768694399@greeblehaus.com
SUMMARY:Madison Cunningham
DESCRIPTION:
URL:https://greeblehaus.com/event/madison-cunningham/
LOCATION:Bluebird
END:VEVENT
BEGIN:VEVENT
DTSTART;VALUE=DATE:20260116
DTEND;VALUE=DATE:20260117
DTSTAMP:20260425T214317
CREATED:20251213T194637Z
LAST-MODIFIED:20260116T154555Z
UID:10000039-1768521600-1768607999@greeblehaus.com
SUMMARY:King Cardinal
DESCRIPTION:
URL:https://greeblehaus.com/event/king-cardinal/
LOCATION:Bluebird
END:VEVENT
BEGIN:VEVENT
DTSTART;VALUE=DATE:20251220
DTEND;VALUE=DATE:20251221
DTSTAMP:20260425T214317
CREATED:20251213T194543Z
LAST-MODIFIED:20251218T221838Z
UID:10000009-1766188800-1766275199@greeblehaus.com
SUMMARY:Avery Anna
DESCRIPTION:
URL:https://greeblehaus.com/event/avery-anna/
LOCATION:Bluebird
END:VEVENT
BEGIN:VEVENT
DTSTART;VALUE=DATE:20251219
DTEND;VALUE=DATE:20251220
DTSTAMP:20260425T214317
CREATED:20251213T194550Z
LAST-MODIFIED:20251218T221836Z
UID:10000018-1766102400-1766188799@greeblehaus.com
SUMMARY:Avery Anna
DESCRIPTION:
URL:https://greeblehaus.com/event/avery-anna-2/
LOCATION:Bluebird
END:VEVENT
BEGIN:VEVENT
DTSTART;VALUE=DATE:20251217
DTEND;VALUE=DATE:20251218
DTSTAMP:20260425T214317
CREATED:20251213T194541Z
LAST-MODIFIED:20251216T201722Z
UID:10000006-1765929600-1766015999@greeblehaus.com
SUMMARY:Post Animal
DESCRIPTION:
URL:https://greeblehaus.com/event/post-animal/
LOCATION:Bluebird
END:VEVENT
END:VCALENDAR