BEGIN:VCALENDAR
VERSION:2.0
PRODID:-//Greeblehaus - ECPv6.15.20//NONSGML v1.0//EN
CALSCALE:GREGORIAN
METHOD:PUBLISH
X-ORIGINAL-URL:https://greeblehaus.com
X-WR-CALDESC:Events for Greeblehaus
REFRESH-INTERVAL;VALUE=DURATION:PT1H
X-Robots-Tag:noindex
X-PUBLISHED-TTL:PT1H
BEGIN:VTIMEZONE
TZID:America/Denver
BEGIN:DAYLIGHT
TZOFFSETFROM:-0700
TZOFFSETTO:-0600
TZNAME:MDT
DTSTART:20250309T090000
END:DAYLIGHT
BEGIN:STANDARD
TZOFFSETFROM:-0600
TZOFFSETTO:-0700
TZNAME:MST
DTSTART:20251102T080000
END:STANDARD
BEGIN:DAYLIGHT
TZOFFSETFROM:-0700
TZOFFSETTO:-0600
TZNAME:MDT
DTSTART:20260308T090000
END:DAYLIGHT
BEGIN:STANDARD
TZOFFSETFROM:-0600
TZOFFSETTO:-0700
TZNAME:MST
DTSTART:20261101T080000
END:STANDARD
BEGIN:DAYLIGHT
TZOFFSETFROM:-0700
TZOFFSETTO:-0600
TZNAME:MDT
DTSTART:20270314T090000
END:DAYLIGHT
BEGIN:STANDARD
TZOFFSETFROM:-0600
TZOFFSETTO:-0700
TZNAME:MST
DTSTART:20271107T080000
END:STANDARD
END:VTIMEZONE
BEGIN:VEVENT
DTSTART;VALUE=DATE:20260426
DTEND;VALUE=DATE:20260427
DTSTAMP:20260425T201514
CREATED:20260305T181816Z
LAST-MODIFIED:20260425T030137Z
UID:10000380-1777161600-1777247999@greeblehaus.com
SUMMARY:Ben Harper & Innocent Criminals
DESCRIPTION:
URL:https://greeblehaus.com/event/ben-harper-innocent-criminals/
LOCATION:Bluebird
END:VEVENT
BEGIN:VEVENT
DTSTART;VALUE=DATE:20260427
DTEND;VALUE=DATE:20260428
DTSTAMP:20260425T201514
CREATED:20260228T153400Z
LAST-MODIFIED:20260425T030119Z
UID:10000370-1777248000-1777334399@greeblehaus.com
SUMMARY:Grace Ives
DESCRIPTION:
URL:https://greeblehaus.com/event/grace-ives/
LOCATION:Bluebird
END:VEVENT
BEGIN:VEVENT
DTSTART;VALUE=DATE:20260502
DTEND;VALUE=DATE:20260503
DTSTAMP:20260425T201514
CREATED:20251222T191307Z
LAST-MODIFIED:20260425T030218Z
UID:10000171-1777680000-1777766399@greeblehaus.com
SUMMARY:Langhorne Slim
DESCRIPTION:
URL:https://greeblehaus.com/event/langhorne-slim/
LOCATION:Bluebird
END:VEVENT
BEGIN:VEVENT
DTSTART;VALUE=DATE:20260505
DTEND;VALUE=DATE:20260506
DTSTAMP:20260425T201514
CREATED:20260109T230425Z
LAST-MODIFIED:20260425T030243Z
UID:10000274-1777939200-1778025599@greeblehaus.com
SUMMARY:Melrose Avenue
DESCRIPTION:
URL:https://greeblehaus.com/event/melrose-avenue/
LOCATION:Bluebird
END:VEVENT
BEGIN:VEVENT
DTSTART;VALUE=DATE:20260506
DTEND;VALUE=DATE:20260507
DTSTAMP:20260425T201514
CREATED:20260207T200350Z
LAST-MODIFIED:20260425T030252Z
UID:10000347-1778025600-1778111999@greeblehaus.com
SUMMARY:Cut Worms
DESCRIPTION:
URL:https://greeblehaus.com/event/cut-worms/
LOCATION:Bluebird
END:VEVENT
BEGIN:VEVENT
DTSTART;VALUE=DATE:20260507
DTEND;VALUE=DATE:20260508
DTSTAMP:20260425T201514
CREATED:20260305T181903Z
LAST-MODIFIED:20260425T030252Z
UID:10000381-1778112000-1778198399@greeblehaus.com
SUMMARY:Vana
DESCRIPTION:
URL:https://greeblehaus.com/event/vana/
LOCATION:Bluebird
END:VEVENT
BEGIN:VEVENT
DTSTART;VALUE=DATE:20260509
DTEND;VALUE=DATE:20260510
DTSTAMP:20260425T201514
CREATED:20260305T181907Z
LAST-MODIFIED:20260425T030317Z
UID:10000382-1778284800-1778371199@greeblehaus.com
SUMMARY:Allie X
DESCRIPTION:
URL:https://greeblehaus.com/event/allie-x/
LOCATION:Bluebird
END:VEVENT
BEGIN:VEVENT
DTSTART;VALUE=DATE:20260514
DTEND;VALUE=DATE:20260515
DTSTAMP:20260425T201514
CREATED:20251222T191324Z
LAST-MODIFIED:20260425T030340Z
UID:10000186-1778716800-1778803199@greeblehaus.com
SUMMARY:New Dad
DESCRIPTION:
URL:https://greeblehaus.com/event/new-dad/
LOCATION:Bluebird
END:VEVENT
BEGIN:VEVENT
DTSTART;VALUE=DATE:20260517
DTEND;VALUE=DATE:20260518
DTSTAMP:20260425T201514
CREATED:20251222T191332Z
LAST-MODIFIED:20260425T030415Z
UID:10000191-1778976000-1779062399@greeblehaus.com
SUMMARY:Sports
DESCRIPTION:
URL:https://greeblehaus.com/event/sports/
LOCATION:Bluebird
END:VEVENT
BEGIN:VEVENT
DTSTART;VALUE=DATE:20260520
DTEND;VALUE=DATE:20260521
DTSTAMP:20260425T201514
CREATED:20260305T181930Z
LAST-MODIFIED:20260425T030430Z
UID:10000383-1779235200-1779321599@greeblehaus.com
SUMMARY:Whitney
DESCRIPTION:
URL:https://greeblehaus.com/event/whitney/
LOCATION:Bluebird
END:VEVENT
BEGIN:VEVENT
DTSTART;VALUE=DATE:20260526
DTEND;VALUE=DATE:20260527
DTSTAMP:20260425T201514
CREATED:20260311T190512Z
LAST-MODIFIED:20260425T030523Z
UID:10000396-1779753600-1779839999@greeblehaus.com
SUMMARY:Hemlocke Springs
DESCRIPTION:
URL:https://greeblehaus.com/event/hemlocke-springs/
LOCATION:Bluebird
END:VEVENT
BEGIN:VEVENT
DTSTART;VALUE=DATE:20260527
DTEND;VALUE=DATE:20260528
DTSTAMP:20260425T201514
CREATED:20251222T191339Z
LAST-MODIFIED:20260425T030522Z
UID:10000198-1779840000-1779926399@greeblehaus.com
SUMMARY:Swervedriver
DESCRIPTION:
URL:https://greeblehaus.com/event/swervedriver/
LOCATION:Bluebird
END:VEVENT
BEGIN:VEVENT
DTSTART;VALUE=DATE:20260607
DTEND;VALUE=DATE:20260608
DTSTAMP:20260425T201514
CREATED:20260317T153408Z
LAST-MODIFIED:20260425T030608Z
UID:10000402-1780790400-1780876799@greeblehaus.com
SUMMARY:The Slackers
DESCRIPTION:
URL:https://greeblehaus.com/event/the-slackers/
LOCATION:Bluebird
END:VEVENT
BEGIN:VEVENT
DTSTART;VALUE=DATE:20260616
DTEND;VALUE=DATE:20260617
DTSTAMP:20260425T201514
CREATED:20260109T230501Z
LAST-MODIFIED:20260425T030655Z
UID:10000275-1781568000-1781654399@greeblehaus.com
SUMMARY:Tigers Jaw
DESCRIPTION:
URL:https://greeblehaus.com/event/tigers-jaw/
LOCATION:Bluebird
END:VEVENT
BEGIN:VEVENT
DTSTART;VALUE=DATE:20260627
DTEND;VALUE=DATE:20260628
DTSTAMP:20260425T201514
CREATED:20260330T183524Z
LAST-MODIFIED:20260425T030754Z
UID:10000438-1782518400-1782604799@greeblehaus.com
SUMMARY:Low Cut Connie
DESCRIPTION:
URL:https://greeblehaus.com/event/low-cut-connie/
LOCATION:Bluebird
END:VEVENT
BEGIN:VEVENT
DTSTART;VALUE=DATE:20260718
DTEND;VALUE=DATE:20260719
DTSTAMP:20260425T201514
CREATED:20260424T030900Z
LAST-MODIFIED:20260425T030916Z
UID:10000591-1784332800-1784419199@greeblehaus.com
SUMMARY:Marcos Valle
DESCRIPTION:
URL:https://greeblehaus.com/event/marcos-valle/
LOCATION:Bluebird
END:VEVENT
BEGIN:VEVENT
DTSTART;VALUE=DATE:20260722
DTEND;VALUE=DATE:20260723
DTSTAMP:20260425T201514
CREATED:20260424T030931Z
LAST-MODIFIED:20260425T030948Z
UID:10000593-1784678400-1784764799@greeblehaus.com
SUMMARY:Kevian Kraemer
DESCRIPTION:
URL:https://greeblehaus.com/event/kevian-kraemer/
LOCATION:Bluebird
END:VEVENT
BEGIN:VEVENT
DTSTART;VALUE=DATE:20260723
DTEND;VALUE=DATE:20260724
DTSTAMP:20260425T201514
CREATED:20260424T030939Z
LAST-MODIFIED:20260425T030937Z
UID:10000594-1784764800-1784851199@greeblehaus.com
SUMMARY:Sleepytime Gorilla Museum
DESCRIPTION:
URL:https://greeblehaus.com/event/sleepytime-gorilla-museum/
LOCATION:Bluebird
END:VEVENT
BEGIN:VEVENT
DTSTART;VALUE=DATE:20260725
DTEND;VALUE=DATE:20260726
DTSTAMP:20260425T201514
CREATED:20260424T030952Z
LAST-MODIFIED:20260425T030958Z
UID:10000595-1784937600-1785023999@greeblehaus.com
SUMMARY:Cracker
DESCRIPTION:
URL:https://greeblehaus.com/event/cracker/
LOCATION:Bluebird
END:VEVENT
BEGIN:VEVENT
DTSTART;VALUE=DATE:20260804
DTEND;VALUE=DATE:20260805
DTSTAMP:20260425T201514
CREATED:20260422T193420Z
LAST-MODIFIED:20260425T031058Z
UID:10000550-1785801600-1785887999@greeblehaus.com
SUMMARY:Wunderhorse
DESCRIPTION:
URL:https://greeblehaus.com/event/wunderhorse/
LOCATION:Bluebird
END:VEVENT
END:VCALENDAR