BEGIN:VCALENDAR
VERSION:2.0
PRODID:-//Greeblehaus - ECPv6.15.20//NONSGML v1.0//EN
CALSCALE:GREGORIAN
METHOD:PUBLISH
X-WR-CALNAME:Greeblehaus
X-ORIGINAL-URL:https://greeblehaus.com
X-WR-CALDESC:Events for Greeblehaus
REFRESH-INTERVAL;VALUE=DURATION:PT1H
X-Robots-Tag:noindex
X-PUBLISHED-TTL:PT1H
BEGIN:VTIMEZONE
TZID:America/Denver
BEGIN:DAYLIGHT
TZOFFSETFROM:-0700
TZOFFSETTO:-0600
TZNAME:MDT
DTSTART:20250309T090000
END:DAYLIGHT
BEGIN:STANDARD
TZOFFSETFROM:-0600
TZOFFSETTO:-0700
TZNAME:MST
DTSTART:20251102T080000
END:STANDARD
BEGIN:DAYLIGHT
TZOFFSETFROM:-0700
TZOFFSETTO:-0600
TZNAME:MDT
DTSTART:20260308T090000
END:DAYLIGHT
BEGIN:STANDARD
TZOFFSETFROM:-0600
TZOFFSETTO:-0700
TZNAME:MST
DTSTART:20261101T080000
END:STANDARD
BEGIN:DAYLIGHT
TZOFFSETFROM:-0700
TZOFFSETTO:-0600
TZNAME:MDT
DTSTART:20270314T090000
END:DAYLIGHT
BEGIN:STANDARD
TZOFFSETFROM:-0600
TZOFFSETTO:-0700
TZNAME:MST
DTSTART:20271107T080000
END:STANDARD
END:VTIMEZONE
BEGIN:VEVENT
DTSTART;VALUE=DATE:20260611
DTEND;VALUE=DATE:20260612
DTSTAMP:20260425T212910
CREATED:20251222T191352Z
LAST-MODIFIED:20260426T030747Z
UID:10000206-1781136000-1781222399@greeblehaus.com
SUMMARY:Lord Huron
DESCRIPTION:
URL:https://greeblehaus.com/event/lord-huron/
LOCATION:Fiddler’s Green
END:VEVENT
BEGIN:VEVENT
DTSTART;VALUE=DATE:20260725
DTEND;VALUE=DATE:20260726
DTSTAMP:20260425T212910
CREATED:20251222T191427Z
LAST-MODIFIED:20260426T031107Z
UID:10000234-1784937600-1785023999@greeblehaus.com
SUMMARY:Rainbow Kitten Surprise
DESCRIPTION:
URL:https://greeblehaus.com/event/rainbow-kitten-surprise/
LOCATION:Fiddler’s Green
END:VEVENT
BEGIN:VEVENT
DTSTART;VALUE=DATE:20260802
DTEND;VALUE=DATE:20260803
DTSTAMP:20260425T212910
CREATED:20260422T193416Z
LAST-MODIFIED:20260426T031202Z
UID:10000547-1785628800-1785715199@greeblehaus.com
SUMMARY:The Black Crowes & Whiskey Myers
DESCRIPTION:
URL:https://greeblehaus.com/event/the-black-crowes-whiskey-myers/
LOCATION:Fiddler’s Green
END:VEVENT
BEGIN:VEVENT
DTSTART;VALUE=DATE:20260807
DTEND;VALUE=DATE:20260808
DTSTAMP:20260425T212910
CREATED:20260422T193421Z
LAST-MODIFIED:20260426T031221Z
UID:10000551-1786060800-1786147199@greeblehaus.com
SUMMARY:Sublime\, Slightly Stoopid & 311
DESCRIPTION:
URL:https://greeblehaus.com/event/sublime-slightly-stoopid-311/
LOCATION:Fiddler’s Green
END:VEVENT
BEGIN:VEVENT
DTSTART;VALUE=DATE:20260812
DTEND;VALUE=DATE:20260813
DTSTAMP:20260425T212910
CREATED:20260422T193549Z
LAST-MODIFIED:20260426T031316Z
UID:10000570-1786492800-1786579199@greeblehaus.com
SUMMARY:The Guess Who
DESCRIPTION:
URL:https://greeblehaus.com/event/the-guess-who/
LOCATION:Fiddler’s Green
END:VEVENT
BEGIN:VEVENT
DTSTART;VALUE=DATE:20260815
DTEND;VALUE=DATE:20260816
DTSTAMP:20260425T212910
CREATED:20251222T191432Z
LAST-MODIFIED:20260426T031320Z
UID:10000239-1786752000-1786838399@greeblehaus.com
SUMMARY:Mt. Joy
DESCRIPTION:
URL:https://greeblehaus.com/event/mt-joy-3/
LOCATION:Fiddler’s Green
END:VEVENT
BEGIN:VEVENT
DTSTART;VALUE=DATE:20260818
DTEND;VALUE=DATE:20260819
DTSTAMP:20260425T212910
CREATED:20260422T193710Z
LAST-MODIFIED:20260426T031331Z
UID:10000574-1787011200-1787097599@greeblehaus.com
SUMMARY:Muse w/ Portugal The Man
DESCRIPTION:
URL:https://greeblehaus.com/event/muse-w-portugal-the-man/
LOCATION:Fiddler’s Green
END:VEVENT
BEGIN:VEVENT
DTSTART;VALUE=DATE:20260821
DTEND;VALUE=DATE:20260822
DTSTAMP:20260425T212910
CREATED:20260422T193802Z
LAST-MODIFIED:20260426T031349Z
UID:10000584-1787270400-1787356799@greeblehaus.com
SUMMARY:CAAMP
DESCRIPTION:
URL:https://greeblehaus.com/event/caamp-2/
LOCATION:Fiddler’s Green
END:VEVENT
BEGIN:VEVENT
DTSTART;VALUE=DATE:20260822
DTEND;VALUE=DATE:20260823
DTSTAMP:20260425T212910
CREATED:20260422T193758Z
LAST-MODIFIED:20260426T031351Z
UID:10000582-1787356800-1787443199@greeblehaus.com
SUMMARY:CAAMP
DESCRIPTION:
URL:https://greeblehaus.com/event/caamp/
LOCATION:Fiddler’s Green
END:VEVENT
BEGIN:VEVENT
DTSTART;VALUE=DATE:20260828
DTEND;VALUE=DATE:20260829
DTSTAMP:20260425T212910
CREATED:20260425T031301Z
LAST-MODIFIED:20260426T031413Z
UID:10000597-1787875200-1787961599@greeblehaus.com
SUMMARY:Dave Matthews Band
DESCRIPTION:
URL:https://greeblehaus.com/event/dave-matthews-band-2/
LOCATION:Fiddler’s Green
END:VEVENT
BEGIN:VEVENT
DTSTART;VALUE=DATE:20260829
DTEND;VALUE=DATE:20260830
DTSTAMP:20260425T212910
CREATED:20260423T002127Z
LAST-MODIFIED:20260426T031413Z
UID:10000589-1787961600-1788047999@greeblehaus.com
SUMMARY:Dave Matthews Band
DESCRIPTION:
URL:https://greeblehaus.com/event/dave-matthews-band/
LOCATION:Fiddler’s Green
END:VEVENT
BEGIN:VEVENT
DTSTART;VALUE=DATE:20260903
DTEND;VALUE=DATE:20260904
DTSTAMP:20260425T212910
CREATED:20251222T191441Z
LAST-MODIFIED:20251222T191441Z
UID:10000246-1788393600-1788479999@greeblehaus.com
SUMMARY:Jack Johnson w/ Lake Street Dive
DESCRIPTION:
URL:https://greeblehaus.com/event/jack-johnson-w-lake-street-dive/
LOCATION:Fiddler’s Green
END:VEVENT
END:VCALENDAR