BEGIN:VCALENDAR
VERSION:2.0
PRODID:-//Greeblehaus - ECPv6.15.20//NONSGML v1.0//EN
CALSCALE:GREGORIAN
METHOD:PUBLISH
X-WR-CALNAME:Greeblehaus
X-ORIGINAL-URL:https://greeblehaus.com
X-WR-CALDESC:Events for Greeblehaus
REFRESH-INTERVAL;VALUE=DURATION:PT1H
X-Robots-Tag:noindex
X-PUBLISHED-TTL:PT1H
BEGIN:VTIMEZONE
TZID:America/Denver
BEGIN:DAYLIGHT
TZOFFSETFROM:-0700
TZOFFSETTO:-0600
TZNAME:MDT
DTSTART:20250309T090000
END:DAYLIGHT
BEGIN:STANDARD
TZOFFSETFROM:-0600
TZOFFSETTO:-0700
TZNAME:MST
DTSTART:20251102T080000
END:STANDARD
BEGIN:DAYLIGHT
TZOFFSETFROM:-0700
TZOFFSETTO:-0600
TZNAME:MDT
DTSTART:20260308T090000
END:DAYLIGHT
BEGIN:STANDARD
TZOFFSETFROM:-0600
TZOFFSETTO:-0700
TZNAME:MST
DTSTART:20261101T080000
END:STANDARD
BEGIN:DAYLIGHT
TZOFFSETFROM:-0700
TZOFFSETTO:-0600
TZNAME:MDT
DTSTART:20270314T090000
END:DAYLIGHT
BEGIN:STANDARD
TZOFFSETFROM:-0600
TZOFFSETTO:-0700
TZNAME:MST
DTSTART:20271107T080000
END:STANDARD
END:VTIMEZONE
BEGIN:VEVENT
DTSTART;VALUE=DATE:20260501
DTEND;VALUE=DATE:20260502
DTSTAMP:20260425T212815
CREATED:20260421T034728Z
LAST-MODIFIED:20260426T030154Z
UID:10000487-1777593600-1777679999@greeblehaus.com
SUMMARY:The Unsolved w/ Flahoola
DESCRIPTION:
URL:https://greeblehaus.com/event/the-unsolved-w-flahoola/
LOCATION:Larimer Lounge
END:VEVENT
BEGIN:VEVENT
DTSTART;VALUE=DATE:20260502
DTEND;VALUE=DATE:20260503
DTSTAMP:20260425T212815
CREATED:20260226T235117Z
LAST-MODIFIED:20260426T030207Z
UID:10000368-1777680000-1777766399@greeblehaus.com
SUMMARY:Ehiorobo
DESCRIPTION:
URL:https://greeblehaus.com/event/ehiorobo/
LOCATION:Larimer Lounge
END:VEVENT
BEGIN:VEVENT
DTSTART;VALUE=DATE:20260506
DTEND;VALUE=DATE:20260507
DTSTAMP:20260425T212815
CREATED:20260422T034759Z
LAST-MODIFIED:20260426T030259Z
UID:10000489-1778025600-1778111999@greeblehaus.com
SUMMARY:Beach Vacation
DESCRIPTION:
URL:https://greeblehaus.com/event/beach-vacation/
LOCATION:Larimer Lounge
END:VEVENT
BEGIN:VEVENT
DTSTART;VALUE=DATE:20260519
DTEND;VALUE=DATE:20260520
DTSTAMP:20260425T212815
CREATED:20251222T191335Z
LAST-MODIFIED:20260426T030527Z
UID:10000194-1779148800-1779235199@greeblehaus.com
SUMMARY:Just Mustard
DESCRIPTION:
URL:https://greeblehaus.com/event/just-mustard/
LOCATION:Larimer Lounge
END:VEVENT
BEGIN:VEVENT
DTSTART;VALUE=DATE:20260609
DTEND;VALUE=DATE:20260610
DTSTAMP:20260425T212815
CREATED:20260317T153422Z
LAST-MODIFIED:20260426T030724Z
UID:10000407-1780963200-1781049599@greeblehaus.com
SUMMARY:Leah Kate
DESCRIPTION:
URL:https://greeblehaus.com/event/leah-kate/
LOCATION:Larimer Lounge
END:VEVENT
END:VCALENDAR