BEGIN:VCALENDAR
VERSION:2.0
PRODID:-//Greeblehaus - ECPv6.15.20//NONSGML v1.0//EN
CALSCALE:GREGORIAN
METHOD:PUBLISH
X-ORIGINAL-URL:https://greeblehaus.com
X-WR-CALDESC:Events for Greeblehaus
REFRESH-INTERVAL;VALUE=DURATION:PT1H
X-Robots-Tag:noindex
X-PUBLISHED-TTL:PT1H
BEGIN:VTIMEZONE
TZID:America/Denver
BEGIN:DAYLIGHT
TZOFFSETFROM:-0700
TZOFFSETTO:-0600
TZNAME:MDT
DTSTART:20250309T090000
END:DAYLIGHT
BEGIN:STANDARD
TZOFFSETFROM:-0600
TZOFFSETTO:-0700
TZNAME:MST
DTSTART:20251102T080000
END:STANDARD
BEGIN:DAYLIGHT
TZOFFSETFROM:-0700
TZOFFSETTO:-0600
TZNAME:MDT
DTSTART:20260308T090000
END:DAYLIGHT
BEGIN:STANDARD
TZOFFSETFROM:-0600
TZOFFSETTO:-0700
TZNAME:MST
DTSTART:20261101T080000
END:STANDARD
BEGIN:DAYLIGHT
TZOFFSETFROM:-0700
TZOFFSETTO:-0600
TZNAME:MDT
DTSTART:20270314T090000
END:DAYLIGHT
BEGIN:STANDARD
TZOFFSETFROM:-0600
TZOFFSETTO:-0700
TZNAME:MST
DTSTART:20271107T080000
END:STANDARD
END:VTIMEZONE
BEGIN:VEVENT
DTSTART;VALUE=DATE:20260425
DTEND;VALUE=DATE:20260426
DTSTAMP:20260425T201517
CREATED:20251222T191257Z
LAST-MODIFIED:20260425T030125Z
UID:10000165-1777075200-1777161599@greeblehaus.com
SUMMARY:Moe.
DESCRIPTION:
URL:https://greeblehaus.com/event/moe-2/
LOCATION:Ogden\, 935 E. Colfax Ave.\, Denver\, CO\, 80218\, United States
END:VEVENT
BEGIN:VEVENT
DTSTART;VALUE=DATE:20260430
DTEND;VALUE=DATE:20260501
DTSTAMP:20260425T201517
CREATED:20251222T191300Z
LAST-MODIFIED:20260425T030213Z
UID:10000168-1777507200-1777593599@greeblehaus.com
SUMMARY:The Growlers
DESCRIPTION:
URL:https://greeblehaus.com/event/the-growlers/
LOCATION:Ogden\, 935 E. Colfax Ave.\, Denver\, CO\, 80218\, United States
END:VEVENT
BEGIN:VEVENT
DTSTART;VALUE=DATE:20260503
DTEND;VALUE=DATE:20260504
DTSTAMP:20260425T201517
CREATED:20251222T191307Z
LAST-MODIFIED:20260425T030234Z
UID:10000170-1777766400-1777852799@greeblehaus.com
SUMMARY:The Brook & The Bluff
DESCRIPTION:
URL:https://greeblehaus.com/event/the-brook-the-bluff/
LOCATION:Ogden\, 935 E. Colfax Ave.\, Denver\, CO\, 80218\, United States
END:VEVENT
BEGIN:VEVENT
DTSTART;VALUE=DATE:20260513
DTEND;VALUE=DATE:20260514
DTSTAMP:20260425T201517
CREATED:20260214T211851Z
LAST-MODIFIED:20260425T030345Z
UID:10000353-1778630400-1778716799@greeblehaus.com
SUMMARY:Snail Mail
DESCRIPTION:
URL:https://greeblehaus.com/event/snail-mail/
LOCATION:Ogden\, 935 E. Colfax Ave.\, Denver\, CO\, 80218\, United States
END:VEVENT
BEGIN:VEVENT
DTSTART;VALUE=DATE:20260517
DTEND;VALUE=DATE:20260518
DTSTAMP:20260425T201517
CREATED:20251222T191334Z
LAST-MODIFIED:20260425T030405Z
UID:10000193-1778976000-1779062399@greeblehaus.com
SUMMARY:The Paper Kites
DESCRIPTION:
URL:https://greeblehaus.com/event/the-paper-kites/
LOCATION:Ogden\, 935 E. Colfax Ave.\, Denver\, CO\, 80218\, United States
END:VEVENT
BEGIN:VEVENT
DTSTART;VALUE=DATE:20260605
DTEND;VALUE=DATE:20260606
DTSTAMP:20260425T201517
CREATED:20260317T153419Z
LAST-MODIFIED:20260425T030607Z
UID:10000406-1780617600-1780703999@greeblehaus.com
SUMMARY:Toadies
DESCRIPTION:
URL:https://greeblehaus.com/event/toadies/
LOCATION:Ogden\, 935 E. Colfax Ave.\, Denver\, CO\, 80218\, United States
END:VEVENT
BEGIN:VEVENT
DTSTART;VALUE=DATE:20260625
DTEND;VALUE=DATE:20260626
DTSTAMP:20260425T201517
CREATED:20251222T191407Z
LAST-MODIFIED:20260425T030744Z
UID:10000218-1782345600-1782431999@greeblehaus.com
SUMMARY:Pattie Gonia
DESCRIPTION:
URL:https://greeblehaus.com/event/pattie-gonia/
LOCATION:Ogden\, 935 E. Colfax Ave.\, Denver\, CO\, 80218\, United States
END:VEVENT
BEGIN:VEVENT
DTSTART;VALUE=DATE:20260630
DTEND;VALUE=DATE:20260701
DTSTAMP:20260425T201517
CREATED:20251222T191409Z
LAST-MODIFIED:20260425T030812Z
UID:10000220-1782777600-1782863999@greeblehaus.com
SUMMARY:Wolfmother
DESCRIPTION:
URL:https://greeblehaus.com/event/wolfmother/
LOCATION:Ogden\, 935 E. Colfax Ave.\, Denver\, CO\, 80218\, United States
END:VEVENT
BEGIN:VEVENT
DTSTART;VALUE=DATE:20260713
DTEND;VALUE=DATE:20260714
DTSTAMP:20260425T201517
CREATED:20251222T191418Z
LAST-MODIFIED:20260425T030856Z
UID:10000225-1783900800-1783987199@greeblehaus.com
SUMMARY:Chance Peña
DESCRIPTION:
URL:https://greeblehaus.com/event/chance-pena/
LOCATION:Ogden\, 935 E. Colfax Ave.\, Denver\, CO\, 80218\, United States
END:VEVENT
BEGIN:VEVENT
DTSTART;VALUE=DATE:20260714
DTEND;VALUE=DATE:20260715
DTSTAMP:20260425T201517
CREATED:20251222T191421Z
LAST-MODIFIED:20260425T030859Z
UID:10000228-1783987200-1784073599@greeblehaus.com
SUMMARY:Chance Peña
DESCRIPTION:
URL:https://greeblehaus.com/event/chance-pena-2/
LOCATION:Ogden\, 935 E. Colfax Ave.\, Denver\, CO\, 80218\, United States
END:VEVENT
BEGIN:VEVENT
DTSTART;VALUE=DATE:20260723
DTEND;VALUE=DATE:20260724
DTSTAMP:20260425T201517
CREATED:20260415T171012Z
LAST-MODIFIED:20260425T030945Z
UID:10000480-1784764800-1784851199@greeblehaus.com
SUMMARY:Kim Gordon
DESCRIPTION:
URL:https://greeblehaus.com/event/kim-gordon/
LOCATION:Ogden\, 935 E. Colfax Ave.\, Denver\, CO\, 80218\, United States
END:VEVENT
BEGIN:VEVENT
DTSTART;VALUE=DATE:20260809
DTEND;VALUE=DATE:20260810
DTSTAMP:20260425T201517
CREATED:20260422T193433Z
LAST-MODIFIED:20260425T031123Z
UID:10000555-1786233600-1786319999@greeblehaus.com
SUMMARY:Passion Pit
DESCRIPTION:
URL:https://greeblehaus.com/event/passion-pit/
LOCATION:Ogden\, 935 E. Colfax Ave.\, Denver\, CO\, 80218\, United States
END:VEVENT
BEGIN:VEVENT
DTSTART;VALUE=DATE:20260914
DTEND;VALUE=DATE:20260915
DTSTAMP:20260425T201517
CREATED:20251222T191444Z
LAST-MODIFIED:20251222T191444Z
UID:10000249-1789344000-1789430399@greeblehaus.com
SUMMARY:Peter Hook & The Light
DESCRIPTION:
URL:https://greeblehaus.com/event/peter-hook-the-light/
LOCATION:Ogden\, 935 E. Colfax Ave.\, Denver\, CO\, 80218\, United States
END:VEVENT
BEGIN:VEVENT
DTSTART;VALUE=DATE:20261011
DTEND;VALUE=DATE:20261012
DTSTAMP:20260425T201517
CREATED:20251222T191447Z
LAST-MODIFIED:20251222T191447Z
UID:10000253-1791676800-1791763199@greeblehaus.com
SUMMARY:OSEES
DESCRIPTION:
URL:https://greeblehaus.com/event/osees/
LOCATION:Ogden\, 935 E. Colfax Ave.\, Denver\, CO\, 80218\, United States
END:VEVENT
END:VCALENDAR