BEGIN:VCALENDAR
VERSION:2.0
PRODID:-//Greeblehaus - ECPv6.15.20//NONSGML v1.0//EN
CALSCALE:GREGORIAN
METHOD:PUBLISH
X-ORIGINAL-URL:https://greeblehaus.com
X-WR-CALDESC:Events for Greeblehaus
REFRESH-INTERVAL;VALUE=DURATION:PT1H
X-Robots-Tag:noindex
X-PUBLISHED-TTL:PT1H
BEGIN:VTIMEZONE
TZID:America/Denver
BEGIN:DAYLIGHT
TZOFFSETFROM:-0700
TZOFFSETTO:-0600
TZNAME:MDT
DTSTART:20250309T090000
END:DAYLIGHT
BEGIN:STANDARD
TZOFFSETFROM:-0600
TZOFFSETTO:-0700
TZNAME:MST
DTSTART:20251102T080000
END:STANDARD
BEGIN:DAYLIGHT
TZOFFSETFROM:-0700
TZOFFSETTO:-0600
TZNAME:MDT
DTSTART:20260308T090000
END:DAYLIGHT
BEGIN:STANDARD
TZOFFSETFROM:-0600
TZOFFSETTO:-0700
TZNAME:MST
DTSTART:20261101T080000
END:STANDARD
BEGIN:DAYLIGHT
TZOFFSETFROM:-0700
TZOFFSETTO:-0600
TZNAME:MDT
DTSTART:20270314T090000
END:DAYLIGHT
BEGIN:STANDARD
TZOFFSETFROM:-0600
TZOFFSETTO:-0700
TZNAME:MST
DTSTART:20271107T080000
END:STANDARD
END:VTIMEZONE
BEGIN:VEVENT
DTSTART;VALUE=DATE:20260421
DTEND;VALUE=DATE:20260422
DTSTAMP:20260425T214017
CREATED:20251222T191247Z
LAST-MODIFIED:20260421T034621Z
UID:10000158-1776729600-1776815999@greeblehaus.com
SUMMARY:Ethel Cain
DESCRIPTION:
URL:https://greeblehaus.com/event/ethel-cain/
LOCATION:Red Rocks
END:VEVENT
BEGIN:VEVENT
DTSTART;VALUE=DATE:20260420
DTEND;VALUE=DATE:20260421
DTSTAMP:20260425T214017
CREATED:20251222T191245Z
LAST-MODIFIED:20260418T183110Z
UID:10000156-1776643200-1776729599@greeblehaus.com
SUMMARY:Ice Cube
DESCRIPTION:
URL:https://greeblehaus.com/event/ice-cube/
LOCATION:Red Rocks
END:VEVENT
BEGIN:VEVENT
DTSTART;VALUE=DATE:20260418
DTEND;VALUE=DATE:20260419
DTSTAMP:20260425T214017
CREATED:20251222T191239Z
LAST-MODIFIED:20260418T183022Z
UID:10000154-1776470400-1776556799@greeblehaus.com
SUMMARY:Sublime
DESCRIPTION:
URL:https://greeblehaus.com/event/sublime-2/
LOCATION:Red Rocks
END:VEVENT
BEGIN:VEVENT
DTSTART;VALUE=DATE:20260417
DTEND;VALUE=DATE:20260418
DTSTAMP:20260425T214017
CREATED:20251222T191235Z
LAST-MODIFIED:20260417T181534Z
UID:10000150-1776384000-1776470399@greeblehaus.com
SUMMARY:Sublime
DESCRIPTION:
URL:https://greeblehaus.com/event/sublime/
LOCATION:Red Rocks
END:VEVENT
END:VCALENDAR