BEGIN:VCALENDAR
VERSION:2.0
PRODID:-//Greeblehaus - ECPv6.15.20//NONSGML v1.0//EN
CALSCALE:GREGORIAN
METHOD:PUBLISH
X-WR-CALNAME:Greeblehaus
X-ORIGINAL-URL:https://greeblehaus.com
X-WR-CALDESC:Events for Greeblehaus
REFRESH-INTERVAL;VALUE=DURATION:PT1H
X-Robots-Tag:noindex
X-PUBLISHED-TTL:PT1H
BEGIN:VTIMEZONE
TZID:America/Denver
BEGIN:DAYLIGHT
TZOFFSETFROM:-0700
TZOFFSETTO:-0600
TZNAME:MDT
DTSTART:20250309T090000
END:DAYLIGHT
BEGIN:STANDARD
TZOFFSETFROM:-0600
TZOFFSETTO:-0700
TZNAME:MST
DTSTART:20251102T080000
END:STANDARD
BEGIN:DAYLIGHT
TZOFFSETFROM:-0700
TZOFFSETTO:-0600
TZNAME:MDT
DTSTART:20260308T090000
END:DAYLIGHT
BEGIN:STANDARD
TZOFFSETFROM:-0600
TZOFFSETTO:-0700
TZNAME:MST
DTSTART:20261101T080000
END:STANDARD
BEGIN:DAYLIGHT
TZOFFSETFROM:-0700
TZOFFSETTO:-0600
TZNAME:MDT
DTSTART:20270314T090000
END:DAYLIGHT
BEGIN:STANDARD
TZOFFSETFROM:-0600
TZOFFSETTO:-0700
TZNAME:MST
DTSTART:20271107T080000
END:STANDARD
END:VTIMEZONE
BEGIN:VEVENT
DTSTART;VALUE=DATE:20260426
DTEND;VALUE=DATE:20260427
DTSTAMP:20260425T201411
CREATED:20251222T191255Z
LAST-MODIFIED:20260425T030136Z
UID:10000163-1777161600-1777247999@greeblehaus.com
SUMMARY:Bob Moses & Cannons
DESCRIPTION:
URL:https://greeblehaus.com/event/bob-moses-cannons/
LOCATION:Red Rocks
END:VEVENT
BEGIN:VEVENT
DTSTART;VALUE=DATE:20260428
DTEND;VALUE=DATE:20260429
DTSTAMP:20260425T201411
CREATED:20251222T191258Z
LAST-MODIFIED:20260425T030138Z
UID:10000166-1777334400-1777420799@greeblehaus.com
SUMMARY:Lewis Capaldi w/ Joy Crookes
DESCRIPTION:
URL:https://greeblehaus.com/event/lewis-capaldi/
LOCATION:Red Rocks
END:VEVENT
BEGIN:VEVENT
DTSTART;VALUE=DATE:20260429
DTEND;VALUE=DATE:20260430
DTSTAMP:20260425T201411
CREATED:20251222T191301Z
LAST-MODIFIED:20260425T030147Z
UID:10000169-1777420800-1777507199@greeblehaus.com
SUMMARY:Lewis Capaldi
DESCRIPTION:
URL:https://greeblehaus.com/event/lewis-capaldi-2/
LOCATION:Red Rocks
END:VEVENT
BEGIN:VEVENT
DTSTART;VALUE=DATE:20260501
DTEND;VALUE=DATE:20260502
DTSTAMP:20260425T201411
CREATED:20251222T191314Z
LAST-MODIFIED:20260425T030157Z
UID:10000177-1777593600-1777679999@greeblehaus.com
SUMMARY:Two Friends
DESCRIPTION:
URL:https://greeblehaus.com/event/two-friends/
LOCATION:Red Rocks
END:VEVENT
BEGIN:VEVENT
DTSTART;VALUE=DATE:20260502
DTEND;VALUE=DATE:20260503
DTSTAMP:20260425T201411
CREATED:20251222T191313Z
LAST-MODIFIED:20260425T030235Z
UID:10000176-1777680000-1777766399@greeblehaus.com
SUMMARY:Jason Isbell & the 400 Unit
DESCRIPTION:
URL:https://greeblehaus.com/event/jason-isbell-the-400-unit-2/
LOCATION:Red Rocks
END:VEVENT
BEGIN:VEVENT
DTSTART;VALUE=DATE:20260503
DTEND;VALUE=DATE:20260504
DTSTAMP:20260425T201411
CREATED:20251222T191311Z
LAST-MODIFIED:20260425T030236Z
UID:10000174-1777766400-1777852799@greeblehaus.com
SUMMARY:Puscifer
DESCRIPTION:
URL:https://greeblehaus.com/event/puscifer/
LOCATION:Red Rocks
END:VEVENT
BEGIN:VEVENT
DTSTART;VALUE=DATE:20260505
DTEND;VALUE=DATE:20260506
DTSTAMP:20260425T201411
CREATED:20260210T204940Z
LAST-MODIFIED:20260425T030244Z
UID:10000352-1777939200-1778025599@greeblehaus.com
SUMMARY:David Guetta
DESCRIPTION:
URL:https://greeblehaus.com/event/david-guetta/
LOCATION:Red Rocks
END:VEVENT
BEGIN:VEVENT
DTSTART;VALUE=DATE:20260506
DTEND;VALUE=DATE:20260507
DTSTAMP:20260425T201411
CREATED:20251222T191316Z
LAST-MODIFIED:20260425T030253Z
UID:10000179-1778025600-1778111999@greeblehaus.com
SUMMARY:Bright Eyes
DESCRIPTION:
URL:https://greeblehaus.com/event/bright-eyes/
LOCATION:Red Rocks
END:VEVENT
BEGIN:VEVENT
DTSTART;VALUE=DATE:20260511
DTEND;VALUE=DATE:20260512
DTSTAMP:20260425T201411
CREATED:20251222T191323Z
LAST-MODIFIED:20260425T030326Z
UID:10000185-1778457600-1778543999@greeblehaus.com
SUMMARY:Yungblud
DESCRIPTION:
URL:https://greeblehaus.com/event/yungblud/
LOCATION:Red Rocks
END:VEVENT
BEGIN:VEVENT
DTSTART;VALUE=DATE:20260521
DTEND;VALUE=DATE:20260522
DTSTAMP:20260425T201411
CREATED:20260225T233646Z
LAST-MODIFIED:20260425T030458Z
UID:10000366-1779321600-1779407999@greeblehaus.com
SUMMARY:Flipturn
DESCRIPTION:
URL:https://greeblehaus.com/event/flipturn/
LOCATION:Red Rocks
END:VEVENT
BEGIN:VEVENT
DTSTART;VALUE=DATE:20260524
DTEND;VALUE=DATE:20260525
DTSTAMP:20260425T201411
CREATED:20251222T191337Z
LAST-MODIFIED:20260425T030459Z
UID:10000196-1779580800-1779667199@greeblehaus.com
SUMMARY:Alabama Shakes
DESCRIPTION:
URL:https://greeblehaus.com/event/alabama-shakes/
LOCATION:Red Rocks
END:VEVENT
BEGIN:VEVENT
DTSTART;VALUE=DATE:20260525
DTEND;VALUE=DATE:20260526
DTSTAMP:20260425T201411
CREATED:20251222T191338Z
LAST-MODIFIED:20260425T030521Z
UID:10000197-1779667200-1779753599@greeblehaus.com
SUMMARY:Alabama Shakes
DESCRIPTION:
URL:https://greeblehaus.com/event/alabama-shakes-2/
LOCATION:Red Rocks
END:VEVENT
BEGIN:VEVENT
DTSTART;VALUE=DATE:20260527
DTEND;VALUE=DATE:20260528
DTSTAMP:20260425T201411
CREATED:20260422T192736Z
LAST-MODIFIED:20260425T030518Z
UID:10000500-1779840000-1779926399@greeblehaus.com
SUMMARY:Santana
DESCRIPTION:
URL:https://greeblehaus.com/event/santana-2/
LOCATION:Red Rocks
END:VEVENT
BEGIN:VEVENT
DTSTART;VALUE=DATE:20260528
DTEND;VALUE=DATE:20260529
DTSTAMP:20260425T201411
CREATED:20260422T192735Z
LAST-MODIFIED:20260425T030533Z
UID:10000499-1779926400-1780012799@greeblehaus.com
SUMMARY:Santana
DESCRIPTION:
URL:https://greeblehaus.com/event/santana/
LOCATION:Red Rocks
END:VEVENT
BEGIN:VEVENT
DTSTART;VALUE=DATE:20260601
DTEND;VALUE=DATE:20260602
DTSTAMP:20260425T201411
CREATED:20260402T225100Z
LAST-MODIFIED:20260425T030542Z
UID:10000466-1780272000-1780358399@greeblehaus.com
SUMMARY:Kesha
DESCRIPTION:
URL:https://greeblehaus.com/event/kesha/
LOCATION:Red Rocks
END:VEVENT
BEGIN:VEVENT
DTSTART;VALUE=DATE:20260603
DTEND;VALUE=DATE:20260604
DTSTAMP:20260425T201411
CREATED:20260422T192809Z
LAST-MODIFIED:20260425T030553Z
UID:10000504-1780444800-1780531199@greeblehaus.com
SUMMARY:Yo-Yo Ma w/ Colorado Symphony
DESCRIPTION:
URL:https://greeblehaus.com/event/yo-yo-ma-w-colorado-symphony/
LOCATION:Red Rocks
END:VEVENT
BEGIN:VEVENT
DTSTART;VALUE=DATE:20260606
DTEND;VALUE=DATE:20260607
DTSTAMP:20260425T201411
CREATED:20251222T191347Z
LAST-MODIFIED:20260425T030609Z
UID:10000205-1780704000-1780790399@greeblehaus.com
SUMMARY:Big Head Todd w/ 4 Non Blondes
DESCRIPTION:
URL:https://greeblehaus.com/event/big-head-todd/
LOCATION:Red Rocks
END:VEVENT
BEGIN:VEVENT
DTSTART;VALUE=DATE:20260607
DTEND;VALUE=DATE:20260608
DTSTAMP:20260425T201411
CREATED:20260422T192813Z
LAST-MODIFIED:20260425T030620Z
UID:10000505-1780790400-1780876799@greeblehaus.com
SUMMARY:Trey Anastasio w/ Colorado Symphony
DESCRIPTION:
URL:https://greeblehaus.com/event/trey-anastasio-w-colorado-symphony/
LOCATION:Red Rocks
END:VEVENT
BEGIN:VEVENT
DTSTART;VALUE=DATE:20260609
DTEND;VALUE=DATE:20260610
DTSTAMP:20260425T201411
CREATED:20260317T153423Z
LAST-MODIFIED:20260425T030633Z
UID:10000408-1780963200-1781049599@greeblehaus.com
SUMMARY:Jimmy Eat World w/ Sunny Day Real Estate\, The Get Up Kids
DESCRIPTION:
URL:https://greeblehaus.com/event/jimmy-eat-world-w-sunny-day-real-estate-the-get-up-kids/
LOCATION:Red Rocks
END:VEVENT
BEGIN:VEVENT
DTSTART;VALUE=DATE:20260610
DTEND;VALUE=DATE:20260611
DTSTAMP:20260425T201411
CREATED:20251222T191353Z
LAST-MODIFIED:20260425T030643Z
UID:10000207-1781049600-1781135999@greeblehaus.com
SUMMARY:Lord Huron
DESCRIPTION:
URL:https://greeblehaus.com/event/lord-huron-2/
LOCATION:Red Rocks
END:VEVENT
BEGIN:VEVENT
DTSTART;VALUE=DATE:20260612
DTEND;VALUE=DATE:20260613
DTSTAMP:20260425T201411
CREATED:20260422T192851Z
LAST-MODIFIED:20260425T030654Z
UID:10000509-1781222400-1781308799@greeblehaus.com
SUMMARY:Paul Simon
DESCRIPTION:
URL:https://greeblehaus.com/event/paul-simon/
LOCATION:Red Rocks
END:VEVENT
BEGIN:VEVENT
DTSTART;VALUE=DATE:20260613
DTEND;VALUE=DATE:20260614
DTSTAMP:20260425T201411
CREATED:20260422T192900Z
LAST-MODIFIED:20260425T030646Z
UID:10000510-1781308800-1781395199@greeblehaus.com
SUMMARY:Paul Simon
DESCRIPTION:
URL:https://greeblehaus.com/event/paul-simon-2/
LOCATION:Red Rocks
END:VEVENT
BEGIN:VEVENT
DTSTART;VALUE=DATE:20260614
DTEND;VALUE=DATE:20260615
DTSTAMP:20260425T201411
CREATED:20251222T191355Z
LAST-MODIFIED:20260425T030703Z
UID:10000209-1781395200-1781481599@greeblehaus.com
SUMMARY:Trevor Hall & Thievery Corporation
DESCRIPTION:
URL:https://greeblehaus.com/event/trevoe-hall-thievery-corporation/
LOCATION:Red Rocks
END:VEVENT
BEGIN:VEVENT
DTSTART;VALUE=DATE:20260615
DTEND;VALUE=DATE:20260616
DTSTAMP:20260425T201411
CREATED:20251222T191354Z
LAST-MODIFIED:20260425T030702Z
UID:10000208-1781481600-1781567999@greeblehaus.com
SUMMARY:Rod Stewart
DESCRIPTION:
URL:https://greeblehaus.com/event/rod-stewart/
LOCATION:Red Rocks
END:VEVENT
BEGIN:VEVENT
DTSTART;VALUE=DATE:20260616
DTEND;VALUE=DATE:20260617
DTSTAMP:20260425T201411
CREATED:20251222T191358Z
LAST-MODIFIED:20260425T030714Z
UID:10000212-1781568000-1781654399@greeblehaus.com
SUMMARY:Rod Stewart
DESCRIPTION:
URL:https://greeblehaus.com/event/rod-stewart-2/
LOCATION:Red Rocks
END:VEVENT
BEGIN:VEVENT
DTSTART;VALUE=DATE:20260617
DTEND;VALUE=DATE:20260618
DTSTAMP:20260425T201411
CREATED:20251222T191356Z
LAST-MODIFIED:20260425T030714Z
UID:10000210-1781654400-1781740799@greeblehaus.com
SUMMARY:Amyl & The Sniffers w/ L7
DESCRIPTION:
URL:https://greeblehaus.com/event/amyl-the-sniffers/
LOCATION:Red Rocks
END:VEVENT
BEGIN:VEVENT
DTSTART;VALUE=DATE:20260619
DTEND;VALUE=DATE:20260620
DTSTAMP:20260425T201411
CREATED:20251222T191404Z
LAST-MODIFIED:20260425T030724Z
UID:10000216-1781827200-1781913599@greeblehaus.com
SUMMARY:Louis Tomlinson
DESCRIPTION:
URL:https://greeblehaus.com/event/louis-tomlinson/
LOCATION:Red Rocks
END:VEVENT
BEGIN:VEVENT
DTSTART;VALUE=DATE:20260620
DTEND;VALUE=DATE:20260621
DTSTAMP:20260425T201411
CREATED:20251222T191400Z
LAST-MODIFIED:20260425T030717Z
UID:10000214-1781913600-1781999999@greeblehaus.com
SUMMARY:O.A.R.
DESCRIPTION:
URL:https://greeblehaus.com/event/o-a-r-2/
LOCATION:Red Rocks
END:VEVENT
BEGIN:VEVENT
DTSTART;VALUE=DATE:20260623
DTEND;VALUE=DATE:20260624
DTSTAMP:20260425T201411
CREATED:20251222T191405Z
LAST-MODIFIED:20260425T030728Z
UID:10000217-1782172800-1782259199@greeblehaus.com
SUMMARY:Weird Al Yancovic
DESCRIPTION:
URL:https://greeblehaus.com/event/weird-al-yancovic/
LOCATION:Red Rocks
END:VEVENT
BEGIN:VEVENT
DTSTART;VALUE=DATE:20260624
DTEND;VALUE=DATE:20260625
DTSTAMP:20260425T201411
CREATED:20260422T193016Z
LAST-MODIFIED:20260425T030741Z
UID:10000516-1782259200-1782345599@greeblehaus.com
SUMMARY:Ziggy Marley & Stepphen Marley
DESCRIPTION:
URL:https://greeblehaus.com/event/ziggy-marley-stepphen-marley/
LOCATION:Red Rocks
END:VEVENT
END:VCALENDAR