BEGIN:VCALENDAR
VERSION:2.0
PRODID:-//Greeblehaus - ECPv6.15.20//NONSGML v1.0//EN
CALSCALE:GREGORIAN
METHOD:PUBLISH
X-ORIGINAL-URL:https://greeblehaus.com
X-WR-CALDESC:Events for Greeblehaus
REFRESH-INTERVAL;VALUE=DURATION:PT1H
X-Robots-Tag:noindex
X-PUBLISHED-TTL:PT1H
BEGIN:VTIMEZONE
TZID:America/Denver
BEGIN:DAYLIGHT
TZOFFSETFROM:-0700
TZOFFSETTO:-0600
TZNAME:MDT
DTSTART:20240310T090000
END:DAYLIGHT
BEGIN:STANDARD
TZOFFSETFROM:-0600
TZOFFSETTO:-0700
TZNAME:MST
DTSTART:20241103T080000
END:STANDARD
BEGIN:DAYLIGHT
TZOFFSETFROM:-0700
TZOFFSETTO:-0600
TZNAME:MDT
DTSTART:20250309T090000
END:DAYLIGHT
BEGIN:STANDARD
TZOFFSETFROM:-0600
TZOFFSETTO:-0700
TZNAME:MST
DTSTART:20251102T080000
END:STANDARD
BEGIN:DAYLIGHT
TZOFFSETFROM:-0700
TZOFFSETTO:-0600
TZNAME:MDT
DTSTART:20260308T090000
END:DAYLIGHT
BEGIN:STANDARD
TZOFFSETFROM:-0600
TZOFFSETTO:-0700
TZNAME:MST
DTSTART:20261101T080000
END:STANDARD
BEGIN:DAYLIGHT
TZOFFSETFROM:-0700
TZOFFSETTO:-0600
TZNAME:MDT
DTSTART:20270314T090000
END:DAYLIGHT
BEGIN:STANDARD
TZOFFSETFROM:-0600
TZOFFSETTO:-0700
TZNAME:MST
DTSTART:20271107T080000
END:STANDARD
END:VTIMEZONE
BEGIN:VEVENT
DTSTART;VALUE=DATE:20260419
DTEND;VALUE=DATE:20260420
DTSTAMP:20260425T214352
CREATED:20260310T184038Z
LAST-MODIFIED:20260418T183024Z
UID:10000393-1776556800-1776643199@greeblehaus.com
SUMMARY:Thursday
DESCRIPTION:
URL:https://greeblehaus.com/event/thursday/
LOCATION:Summit
END:VEVENT
BEGIN:VEVENT
DTSTART;VALUE=DATE:20260412
DTEND;VALUE=DATE:20260413
DTSTAMP:20260425T214352
CREATED:20260219T223250Z
LAST-MODIFIED:20260412T161913Z
UID:10000360-1775952000-1776038399@greeblehaus.com
SUMMARY:MISSIO
DESCRIPTION:
URL:https://greeblehaus.com/event/missio/
LOCATION:Summit
END:VEVENT
BEGIN:VEVENT
DTSTART;VALUE=DATE:20260408
DTEND;VALUE=DATE:20260409
DTSTAMP:20260425T214352
CREATED:20251222T191229Z
LAST-MODIFIED:20260408T000020Z
UID:10000145-1775606400-1775692799@greeblehaus.com
SUMMARY:Calum Scott
DESCRIPTION:
URL:https://greeblehaus.com/event/calum-scott/
LOCATION:Summit
END:VEVENT
BEGIN:VEVENT
DTSTART;VALUE=DATE:20260407
DTEND;VALUE=DATE:20260408
DTSTAMP:20260425T214352
CREATED:20260110T231839Z
LAST-MODIFIED:20260406T234727Z
UID:10000321-1775520000-1775606399@greeblehaus.com
SUMMARY:Dave
DESCRIPTION:
URL:https://greeblehaus.com/event/dave/
LOCATION:Summit
END:VEVENT
BEGIN:VEVENT
DTSTART;VALUE=DATE:20260331
DTEND;VALUE=DATE:20260401
DTSTAMP:20260425T214352
CREATED:20260110T231819Z
LAST-MODIFIED:20260331T184544Z
UID:10000313-1774915200-1775001599@greeblehaus.com
SUMMARY:Lacuna Coil
DESCRIPTION:
URL:https://greeblehaus.com/event/lacuna-coil/
LOCATION:Summit
END:VEVENT
BEGIN:VEVENT
DTSTART;VALUE=DATE:20260328
DTEND;VALUE=DATE:20260329
DTSTAMP:20260425T214352
CREATED:20251222T191214Z
LAST-MODIFIED:20260328T180027Z
UID:10000134-1774656000-1774742399@greeblehaus.com
SUMMARY:The Devil Wears Prada
DESCRIPTION:
URL:https://greeblehaus.com/event/the-devil-wears-prada/
LOCATION:Summit
END:VEVENT
BEGIN:VEVENT
DTSTART;VALUE=DATE:20260320
DTEND;VALUE=DATE:20260321
DTSTAMP:20260425T214352
CREATED:20260110T231748Z
LAST-MODIFIED:20260320T163423Z
UID:10000303-1773964800-1774051199@greeblehaus.com
SUMMARY:White Reaper
DESCRIPTION:
URL:https://greeblehaus.com/event/white-reaper/
LOCATION:Summit
END:VEVENT
BEGIN:VEVENT
DTSTART;VALUE=DATE:20260314
DTEND;VALUE=DATE:20260315
DTSTAMP:20260425T214352
CREATED:20251218T180506Z
LAST-MODIFIED:20260313T193214Z
UID:10000109-1773446400-1773532799@greeblehaus.com
SUMMARY:Two Feet
DESCRIPTION:
URL:https://greeblehaus.com/event/two-feet-2/
LOCATION:Summit
END:VEVENT
BEGIN:VEVENT
DTSTART;VALUE=DATE:20260313
DTEND;VALUE=DATE:20260314
DTSTAMP:20260425T214352
CREATED:20251214T200336Z
LAST-MODIFIED:20260313T193208Z
UID:10000101-1773360000-1773446399@greeblehaus.com
SUMMARY:Two Feet
DESCRIPTION:
URL:https://greeblehaus.com/event/two-feet/
LOCATION:Summit
END:VEVENT
BEGIN:VEVENT
DTSTART;VALUE=DATE:20260312
DTEND;VALUE=DATE:20260313
DTSTAMP:20260425T214352
CREATED:20260110T231730Z
LAST-MODIFIED:20260312T191529Z
UID:10000299-1773273600-1773359999@greeblehaus.com
SUMMARY:Hawthorne Heights
DESCRIPTION:
URL:https://greeblehaus.com/event/hawthorne-heights/
LOCATION:Summit
END:VEVENT
BEGIN:VEVENT
DTSTART;VALUE=DATE:20260310
DTEND;VALUE=DATE:20260311
DTSTAMP:20260425T214352
CREATED:20251213T200227Z
LAST-MODIFIED:20260310T184317Z
UID:10000096-1773100800-1773187199@greeblehaus.com
SUMMARY:Peaches
DESCRIPTION:
URL:https://greeblehaus.com/event/peaches/
LOCATION:Summit
END:VEVENT
BEGIN:VEVENT
DTSTART;VALUE=DATE:20260307
DTEND;VALUE=DATE:20260308
DTSTAMP:20260425T214352
CREATED:20251213T200220Z
LAST-MODIFIED:20260307T184538Z
UID:10000090-1772841600-1772927999@greeblehaus.com
SUMMARY:Dodie
DESCRIPTION:
URL:https://greeblehaus.com/event/dodie/
LOCATION:Summit
END:VEVENT
BEGIN:VEVENT
DTSTART;VALUE=DATE:20260305
DTEND;VALUE=DATE:20260306
DTSTAMP:20260425T214352
CREATED:20251213T200217Z
LAST-MODIFIED:20260305T181414Z
UID:10000087-1772668800-1772755199@greeblehaus.com
SUMMARY:Colony House
DESCRIPTION:
URL:https://greeblehaus.com/event/colony-house/
LOCATION:Summit
END:VEVENT
BEGIN:VEVENT
DTSTART;VALUE=DATE:20260227
DTEND;VALUE=DATE:20260228
DTSTAMP:20260425T214352
CREATED:20251213T194724Z
LAST-MODIFIED:20260226T234712Z
UID:10000077-1772150400-1772236799@greeblehaus.com
SUMMARY:Donny Benét
DESCRIPTION:
URL:https://greeblehaus.com/event/donny-benet/
LOCATION:Summit
END:VEVENT
BEGIN:VEVENT
DTSTART;VALUE=DATE:20260225
DTEND;VALUE=DATE:20260226
DTSTAMP:20260425T214352
CREATED:20251213T194718Z
LAST-MODIFIED:20260225T233045Z
UID:10000070-1771977600-1772063999@greeblehaus.com
SUMMARY:Lights
DESCRIPTION:
URL:https://greeblehaus.com/event/lights/
LOCATION:Summit
END:VEVENT
BEGIN:VEVENT
DTSTART;VALUE=DATE:20260211
DTEND;VALUE=DATE:20260212
DTSTAMP:20260425T214352
CREATED:20251213T194702Z
LAST-MODIFIED:20260211T204537Z
UID:10000060-1770768000-1770854399@greeblehaus.com
SUMMARY:Michael Shannon & Jason Narducy
DESCRIPTION:
URL:https://greeblehaus.com/event/michael-shannon-jason-narducy/
LOCATION:Summit
END:VEVENT
BEGIN:VEVENT
DTSTART;VALUE=DATE:20260203
DTEND;VALUE=DATE:20260204
DTSTAMP:20260425T214352
CREATED:20251213T194647Z
LAST-MODIFIED:20260203T191538Z
UID:10000050-1770076800-1770163199@greeblehaus.com
SUMMARY:Jessie J
DESCRIPTION:
URL:https://greeblehaus.com/event/jessie-j/
LOCATION:Summit
END:VEVENT
BEGIN:VEVENT
DTSTART;VALUE=DATE:20251219
DTEND;VALUE=DATE:20251220
DTSTAMP:20260425T214352
CREATED:20251218T221821Z
LAST-MODIFIED:20251218T221821Z
UID:10000110-1766102400-1766188799@greeblehaus.com
SUMMARY:Emo Nite
DESCRIPTION:
URL:https://greeblehaus.com/event/emo-nite/
LOCATION:Summit
END:VEVENT
END:VCALENDAR